BEGIN:VCALENDAR
VERSION:2.0
PRODID:-//The Pete Ellman Big Band - ECPv6.15.20//NONSGML v1.0//EN
CALSCALE:GREGORIAN
METHOD:PUBLISH
X-ORIGINAL-URL:https://pebb.net
X-WR-CALDESC:Events for The Pete Ellman Big Band
REFRESH-INTERVAL;VALUE=DURATION:PT1H
X-Robots-Tag:noindex
X-PUBLISHED-TTL:PT1H
BEGIN:VTIMEZONE
TZID:America/Chicago
BEGIN:DAYLIGHT
TZOFFSETFROM:-0600
TZOFFSETTO:-0500
TZNAME:CDT
DTSTART:20240310T080000
END:DAYLIGHT
BEGIN:STANDARD
TZOFFSETFROM:-0500
TZOFFSETTO:-0600
TZNAME:CST
DTSTART:20241103T070000
END:STANDARD
BEGIN:DAYLIGHT
TZOFFSETFROM:-0600
TZOFFSETTO:-0500
TZNAME:CDT
DTSTART:20250309T080000
END:DAYLIGHT
BEGIN:STANDARD
TZOFFSETFROM:-0500
TZOFFSETTO:-0600
TZNAME:CST
DTSTART:20251102T070000
END:STANDARD
BEGIN:DAYLIGHT
TZOFFSETFROM:-0600
TZOFFSETTO:-0500
TZNAME:CDT
DTSTART:20260308T080000
END:DAYLIGHT
BEGIN:STANDARD
TZOFFSETFROM:-0500
TZOFFSETTO:-0600
TZNAME:CST
DTSTART:20261101T070000
END:STANDARD
END:VTIMEZONE
BEGIN:VEVENT
DTSTART;TZID=America/Chicago:20250311T063000
DTEND;TZID=America/Chicago:20250311T210000
DTSTAMP:20260421T205359
CREATED:20250401T204736Z
LAST-MODIFIED:20250401T204736Z
UID:6157-1741674600-1741726800@pebb.net
SUMMARY:with Barrington MS's Station\, and The BackBeat
DESCRIPTION:The Venue is pleased to present The PETE ELLMAN BIG BAND Residency Series\, Tuesday\, March 11th at 6:30pm. Doors open at 6:00pm. \nThe Fox Valley Music Foundation is thrilled to partner with The Pete Ellman Big Band to provide area students with the opportunity to perform before a live audience at The Venue. The Big Band Residency Series will take place on Tuesday evenings. \nEach week The Pete Ellman Big Band will be joined by an area college\, high school\, or middle school group that will open the show. \nOpening performance will feature Barrington Middle School’s Station\, and The Back Beat Student ensembles. \nAdvance Admission: Premium Reserved Seating – $10 | General Admission Seats – $10 Enjoy more premium seating! \nThis event is sponsored by Vicki McCoy from RE/MAX In The Village. \n 
URL:https://pebb.net/event/with-barrington-mss-station-and-the-backbeat/
LOCATION:The Venue Aurora IL\, 21 S Broadway Ave\, Aurora\, IL\, 60505\, United States
ATTACH;FMTTYPE=image/jpeg:https://pebb.net/wp-content/uploads/2021/09/PEBB-The-Venue-Logo.jpg
END:VEVENT
END:VCALENDAR