BEGIN:VCALENDAR
VERSION:2.0
PRODID:-//The Pete Ellman Big Band - ECPv6.15.20//NONSGML v1.0//EN
CALSCALE:GREGORIAN
METHOD:PUBLISH
X-WR-CALNAME:The Pete Ellman Big Band
X-ORIGINAL-URL:https://pebb.net
X-WR-CALDESC:Events for The Pete Ellman Big Band
REFRESH-INTERVAL;VALUE=DURATION:PT1H
X-Robots-Tag:noindex
X-PUBLISHED-TTL:PT1H
BEGIN:VTIMEZONE
TZID:America/Chicago
BEGIN:DAYLIGHT
TZOFFSETFROM:-0600
TZOFFSETTO:-0500
TZNAME:CDT
DTSTART:20230312T080000
END:DAYLIGHT
BEGIN:STANDARD
TZOFFSETFROM:-0500
TZOFFSETTO:-0600
TZNAME:CST
DTSTART:20231105T070000
END:STANDARD
BEGIN:DAYLIGHT
TZOFFSETFROM:-0600
TZOFFSETTO:-0500
TZNAME:CDT
DTSTART:20240310T080000
END:DAYLIGHT
BEGIN:STANDARD
TZOFFSETFROM:-0500
TZOFFSETTO:-0600
TZNAME:CST
DTSTART:20241103T070000
END:STANDARD
BEGIN:DAYLIGHT
TZOFFSETFROM:-0600
TZOFFSETTO:-0500
TZNAME:CDT
DTSTART:20250309T080000
END:DAYLIGHT
BEGIN:STANDARD
TZOFFSETFROM:-0500
TZOFFSETTO:-0600
TZNAME:CST
DTSTART:20251102T070000
END:STANDARD
END:VTIMEZONE
BEGIN:VEVENT
DTSTART;TZID=America/Chicago:20240423T184500
DTEND;TZID=America/Chicago:20240423T213000
DTSTAMP:20260420T045705
CREATED:20230314T223109Z
LAST-MODIFIED:20240325T212650Z
UID:5217-1713897900-1713907800@pebb.net
SUMMARY:with Sycamore High School
DESCRIPTION:The Venue is pleased to present The PETE ELLMAN BIG BAND Residency Series\, Tuesday\, April 11 at 6:45pm. Doors open at 6pm. \nFox Valley Music Foundation is thrilled to partner with The Pete Ellman Big Band to provide area students with the opportunity to perform before a live audience at Venue. The Big Band Residency Series will take place on Tuesday evenings. \nEach week The Pete Ellman Big Band will be joined by an area college\, high school\, or middle school group that will open the show. Opening performance for this show will feature the students of Sycamore High School. \nALL TICKETS – JUST $5. \nABOUT THE ARTISTS \nThe Pete Ellman Big Band (PEBB) was formed in 2009 after Pete retired from the Illinois Air National Guard after 20 years of service. Since then\, the band has played regularly in the Chicagoland Western suburbs at locations such as Mullen’s in Lisle and Fitzgerald’s in Oak Park. They regularly invite student jazz ensembles to join them and will provide guest clinicians. This is a way to get these budding musicians into a real world environment playing the music they love in addition to an auditorium in front of parents or classmates. \nAdditionally\, the PEBB has hosted numerous fundraisers at their events to help raise money (and food / toys) for local non-profits such as Loaves & Fishes\, Toys for Tots\, Kids Matter\, Kidz Cabaret\, Youth Symphony of DuPage\, Naperville Educational Foundation\, Gil Ellman Memorial Fund\, and more! To Pete\, it is all about giving back to the community to help kids\, in general\, and also to give kids an opportunity to participate in the arts. \nPete has worked full time at Ellman’s Music Center since 1985\, having worked in nearly every position in the company\, from repairman to outside sales representative to purchasing agent to janitor. With that kind of overall experience\, he has a uniquely complete vision on how to run the business. \nPete continues to play professionally and has performed with nationally known artists such as Wayne Newton\, Lynyrd Skynyrd\, Aretha Franklin\, Bob Newhart\, Chicago Sinfonietta\, and many more. Being a trumpet player\, Pete’s favorite artist to date has been world renowned trumpeter Wayne Bergeron. \nPete attended DePaul University and majored in Music Performance. Peter attends many industry specific and financial seminars including NASMD\, NAPBIRT\, and NAMM. He sits on the board of the Naperville Municipal Band.
URL:https://pebb.net/event/with-sycamore-high-school/
LOCATION:The Venue Aurora IL\, 21 S Broadway Ave\, Aurora\, IL\, 60505\, United States
ATTACH;FMTTYPE=image/jpeg:https://pebb.net/wp-content/uploads/2021/09/PEBB-The-Venue-Aurora-e1666597826467.jpg
ORGANIZER;CN="Pete Ellman":MAILTO:pebigbandnfp@gmail.com
END:VEVENT
END:VCALENDAR