BEGIN:VCALENDAR
VERSION:2.0
PRODID:-//The Pete Ellman Big Band - ECPv6.15.20//NONSGML v1.0//EN
CALSCALE:GREGORIAN
METHOD:PUBLISH
X-WR-CALNAME:The Pete Ellman Big Band
X-ORIGINAL-URL:https://pebb.net
X-WR-CALDESC:Events for The Pete Ellman Big Band
REFRESH-INTERVAL;VALUE=DURATION:PT1H
X-Robots-Tag:noindex
X-PUBLISHED-TTL:PT1H
BEGIN:VTIMEZONE
TZID:America/Chicago
BEGIN:DAYLIGHT
TZOFFSETFROM:-0600
TZOFFSETTO:-0500
TZNAME:CDT
DTSTART:20230312T080000
END:DAYLIGHT
BEGIN:STANDARD
TZOFFSETFROM:-0500
TZOFFSETTO:-0600
TZNAME:CST
DTSTART:20231105T070000
END:STANDARD
BEGIN:DAYLIGHT
TZOFFSETFROM:-0600
TZOFFSETTO:-0500
TZNAME:CDT
DTSTART:20240310T080000
END:DAYLIGHT
BEGIN:STANDARD
TZOFFSETFROM:-0500
TZOFFSETTO:-0600
TZNAME:CST
DTSTART:20241103T070000
END:STANDARD
BEGIN:DAYLIGHT
TZOFFSETFROM:-0600
TZOFFSETTO:-0500
TZNAME:CDT
DTSTART:20250309T080000
END:DAYLIGHT
BEGIN:STANDARD
TZOFFSETFROM:-0500
TZOFFSETTO:-0600
TZNAME:CST
DTSTART:20251102T070000
END:STANDARD
END:VTIMEZONE
BEGIN:VEVENT
DTSTART;TZID=America/Chicago:20240507T184500
DTEND;TZID=America/Chicago:20240507T213000
DTSTAMP:20260420T030510
CREATED:20230314T224400Z
LAST-MODIFIED:20240325T212547Z
UID:5223-1715107500-1715117400@pebb.net
SUMMARY:with Plainfield North High School
DESCRIPTION:The Venue is pleased to present The PETE ELLMAN BIG BAND Residency Series\, Tuesday\, May 7 at 6:45pm. Doors open at 6:00pm. \nFox Valley Music Foundation is thrilled to partner with The Pete Ellman Big Band to provide area students with the opportunity to perform before a live audience at Venue. The Big Band Residency Series will take place on Tuesday evenings. \nEach week The Pete Ellman Big Band will be joined by an area college\, high school\, or middle school group that will open the show. Opening performance for this show will feature the students of Plainfield North High School. This event is sponsored by Vicki McCoy from RE/MAX In The Village. \nALL TICKETS – JUST $10. \n 
URL:https://pebb.net/event/plainfield-north-high-school/
LOCATION:The Venue Aurora IL\, 21 S Broadway Ave\, Aurora\, IL\, 60505\, United States
ATTACH;FMTTYPE=image/jpeg:https://pebb.net/wp-content/uploads/2021/09/PEBB-The-Venue-Logo.jpg
ORGANIZER;CN="Pete Ellman":MAILTO:pebigbandnfp@gmail.com
END:VEVENT
BEGIN:VEVENT
DTSTART;TZID=America/Chicago:20240521T184500
DTEND;TZID=America/Chicago:20240521T210000
DTSTAMP:20260420T030510
CREATED:20231229T200735Z
LAST-MODIFIED:20240325T212453Z
UID:5573-1716317100-1716325200@pebb.net
SUMMARY:with West Aurora High School Lab Band
DESCRIPTION:The Venue is pleased to present The PETE ELLMAN BIG BAND Residency Series\, Tuesday\, May 21 at 6:45pm. Doors open at 6:00pm. \nFox Valley Music Foundation is thrilled to partner with The Pete Ellman Big Band to provide area students with the opportunity to perform before a live audience at Venue. The Big Band Residency Series will take place on Tuesday evenings. \nEach week The Pete Ellman Big Band will be joined by an area college\, high school\, or middle school group that will open the show. Opening performance for this show will feature the students of West Aurora High School Lab Band. This event is sponsored by Vicki McCoy from RE/MAX In The Village. \nALL TICKETS – JUST $10.
URL:https://pebb.net/event/with-west-aurora-high-school-lab-band/
LOCATION:The Venue Aurora IL\, 21 S Broadway Ave\, Aurora\, IL\, 60505\, United States
ATTACH;FMTTYPE=image/jpeg:https://pebb.net/wp-content/uploads/2021/09/PEBB-The-Venue-Aurora-e1666597826467.jpg
ORGANIZER;CN="Pete Ellman":MAILTO:pebigbandnfp@gmail.com
END:VEVENT
END:VCALENDAR