BEGIN:VCALENDAR
VERSION:2.0
PRODID:-//The Pete Ellman Big Band - ECPv6.15.20//NONSGML v1.0//EN
CALSCALE:GREGORIAN
METHOD:PUBLISH
X-WR-CALNAME:The Pete Ellman Big Band
X-ORIGINAL-URL:https://pebb.net
X-WR-CALDESC:Events for The Pete Ellman Big Band
REFRESH-INTERVAL;VALUE=DURATION:PT1H
X-Robots-Tag:noindex
X-PUBLISHED-TTL:PT1H
BEGIN:VTIMEZONE
TZID:America/Chicago
BEGIN:DAYLIGHT
TZOFFSETFROM:-0600
TZOFFSETTO:-0500
TZNAME:CDT
DTSTART:20230312T080000
END:DAYLIGHT
BEGIN:STANDARD
TZOFFSETFROM:-0500
TZOFFSETTO:-0600
TZNAME:CST
DTSTART:20231105T070000
END:STANDARD
BEGIN:DAYLIGHT
TZOFFSETFROM:-0600
TZOFFSETTO:-0500
TZNAME:CDT
DTSTART:20240310T080000
END:DAYLIGHT
BEGIN:STANDARD
TZOFFSETFROM:-0500
TZOFFSETTO:-0600
TZNAME:CST
DTSTART:20241103T070000
END:STANDARD
BEGIN:DAYLIGHT
TZOFFSETFROM:-0600
TZOFFSETTO:-0500
TZNAME:CDT
DTSTART:20250309T080000
END:DAYLIGHT
BEGIN:STANDARD
TZOFFSETFROM:-0500
TZOFFSETTO:-0600
TZNAME:CST
DTSTART:20251102T070000
END:STANDARD
END:VTIMEZONE
BEGIN:VEVENT
DTSTART;TZID=America/Chicago:20240820T200000
DTEND;TZID=America/Chicago:20240820T220000
DTSTAMP:20260422T173059
CREATED:20240628T052148Z
LAST-MODIFIED:20240628T052148Z
UID:5829-1724184000-1724191200@pebb.net
SUMMARY:The PETE ELLMAN BIG BAND SUMMER SERIES with Special Guest Leslie Beukelman
DESCRIPTION:The Venue is pleased to present The PETE ELLMAN BIG BAND SUMMER SERIES August 20 at 8pm. Doors open at 7pm. \nPremium Reserved Seats: $25 \nGeneral Admission $20 \n\n\n\n\nFrom Leslie Beukelman: \n“I began my performing career on the cement slab in front of my childhood home in Sandwich\, Illinois. Or perhaps it was while my mom was 8 months pregnant playing the drums in DeKalb County’s own Opus V… Either way\, music has been a part of my life since\, well\, forever. \nPerforming in my youth was a priority\, mostly because I enjoyed being on stage with a crew of people\, taking the audience (and ourselves) on a journey that would only happen that very way on that very day. We were a team and we were in it together. Going to school at Roosevelt University’s Chicago College of Performing Arts here in the city of Chicago\, I earned a jazz performance/jazz studies degree. In addition to meeting a lot of cool people and studying with some of the best musicians the world has to offer\, I gained tools to refine my craft and figure out what kind of musical house I wanted to build. I haven’t settled on one type of house yet\, as I enjoy many styles of music. Staying true to my initial statement of “taking the audience on a journey\,” I do not limit myself to one genre of song and I enjoy exploring music with the incredible musicians I have met through the years and have the true honor of collaborating. \nI perform all over the city in a variety of bands. In one week\, I may be up on stage in the lights\, getting my indie-rock/grunge vibe on with miss remember… or perhaps I’ll be singing the swingin’ hits from yesteryear with an 18 piece big band called the Chicago Skyliners Big Band… you may stumble into a bar and find me belting out my own songs from my heart and soul with my singer/songwriter 4-piece rock band\, Brite Lite… or\, as you order a fine cocktail\, I may be sitting alongside two other beautiful women in the corner of a dark bar\, painted in red lights\, singing in three-part harmony (me\, playing a trumpet or melodica here and there\, the other two adorning a ukelele and a guitar)\, doing our versions of current popular songs\, in addition to our original songs (we are The Oh Yeahs)… or if you’re a party-goer\, you’ll find me in one of the many gorgeous historical ballrooms in Chicago singing for some teary eyed couple who has just tied the knot and are celebrating the start of their lives together. \nYou can listen to my musical offerings under the “music” portion of this site; also\, find the aforementioned bands’ (among others) music and information on the Projects/Link page. More importantly\, find out where\, when\, and with whom I am performing on the Performances page. \nThanks for reading\, and if you come to a show\, please be sure to say hello. Lastly\, please spread positivity and light\, folks… being a jerk just doesn’t look good on you. 😉” \nThe Pete Ellman Big Band (PEBB) was formed in 2009 after Pete retired from the Illinois Air National Guard after 20 years of service. Since then\, the band has played regularly in the Chicagoland Western suburbs at locations such as Mullen’s in Lisle and Fitzgerald’s in Oak Park. They regularly invite student jazz ensembles to join them and will provide guest clinicians. This is a way to get these budding musicians into a real world environment playing the music they love in addition to an auditorium in front of parents or classmates. \n \nAdditionally\, the PEBB has hosted numerous fundraisers at their events to help raise money (and food / toys) for local non-profits such as Loaves & Fishes\, Toys for Tots\, Kids Matter\, Kidz Cabaret\, Youth Symphony of DuPage\, Naperville Educational Foundation\, Gil Ellman Memorial Fund\, and more! To Pete\, it is all about giving back to the community to help kids\, in general\, and also to give kids an opportunity to participate in the arts. \nPete has worked full time at Ellman’s Music Center since 1985\, having worked in nearly every position in the company\, from repairman to outside sales representative to purchasing agent to janitor. With that kind of overall experience\, he has a uniquely complete vision on how to run the business. \nPete continues to play professionally and has performed with nationally known artists such as Wayne Newton\, Lynyrd Skynyrd\, Aretha Franklin\, Bob Newhart\, Chicago Sinfonietta\, and many more. Being a trumpet player\, Pete’s favorite artist to date has been world renowned trumpeter Wayne Bergeron. \nPete attended DePaul University and majored in Music Performance. Peter attends many industry specific and financial seminars including NASMD\, NAPBIRT\, and NAMM. He sits on the board of the Naperville Municipal Band.
URL:https://pebb.net/event/the-pete-ellman-big-band-summer-series-with-special-guest-leslie-beukelman/
LOCATION:The Venue Aurora IL\, 21 S Broadway Ave\, Aurora\, IL\, 60505\, United States
ATTACH;FMTTYPE=image/jpeg:https://pebb.net/wp-content/uploads/2024/06/https___cdn.evbuc_.com_images_789330539_1718633928833_1_original.jpg
ORGANIZER;CN="Pete Ellman":MAILTO:pebigbandnfp@gmail.com
END:VEVENT
END:VCALENDAR